BEGIN:VCALENDAR
VERSION:2.0
PRODID:-//pro² network+ - ECPv6.15.20//NONSGML v1.0//EN
CALSCALE:GREGORIAN
METHOD:PUBLISH
X-WR-CALNAME:pro² network+
X-ORIGINAL-URL:https://prosquared.org
X-WR-CALDESC:Events for pro² network+
REFRESH-INTERVAL;VALUE=DURATION:PT1H
X-Robots-Tag:noindex
X-PUBLISHED-TTL:PT1H
BEGIN:VTIMEZONE
TZID:Europe/Paris
BEGIN:DAYLIGHT
TZOFFSETFROM:+0100
TZOFFSETTO:+0200
TZNAME:CEST
DTSTART:20250330T010000
END:DAYLIGHT
BEGIN:STANDARD
TZOFFSETFROM:+0200
TZOFFSETTO:+0100
TZNAME:CET
DTSTART:20251026T010000
END:STANDARD
BEGIN:DAYLIGHT
TZOFFSETFROM:+0100
TZOFFSETTO:+0200
TZNAME:CEST
DTSTART:20260329T010000
END:DAYLIGHT
BEGIN:STANDARD
TZOFFSETFROM:+0200
TZOFFSETTO:+0100
TZNAME:CET
DTSTART:20261025T010000
END:STANDARD
BEGIN:DAYLIGHT
TZOFFSETFROM:+0100
TZOFFSETTO:+0200
TZNAME:CEST
DTSTART:20270328T010000
END:DAYLIGHT
BEGIN:STANDARD
TZOFFSETFROM:+0200
TZOFFSETTO:+0100
TZNAME:CET
DTSTART:20271031T010000
END:STANDARD
END:VTIMEZONE
BEGIN:VEVENT
DTSTART;TZID=Europe/Paris:20260414T141500
DTEND;TZID=Europe/Paris:20260414T180000
DTSTAMP:20260422T181500
CREATED:20260220T145124Z
LAST-MODIFIED:20260220T145124Z
UID:6152-1776176100-1776189600@prosquared.org
SUMMARY:CHI 2026 Workshop: Are We Doing Enough?
DESCRIPTION:Are We Doing Enough? Sharing Design and Manufacturing Expertise Across Open Source Hardware Communities\npro² network+ Research Associate Rory Clark and network co-founders Mike Fraser and Steve Hodges are among the organisers of this workshop\, taking place on the 14th of April at the ACM CHI conference in Barcelona. \nThe goal of this workshop is not only to share solutions to common challenges in the open source hardware space\, but also to consider the methods and efficacy relating to how this information is shared. We will ask ourselves if the community is doing enough to ensure that information about hardware design and manufacturing is accessible\, understandable\, effective and utilises the best channels to reach the widest audience. Activities will include mapping and analysis of knowledge\, collaborative design of potential frameworks to utilise this mapped information\, and wider reflection on behalf of the hardware community. \nWhile the application window for participation in the workshop has now closed\, we would still love to connect with you at CHI if you’re also attending.  \n 
URL:https://prosquared.org/event/chi-2026-workshop/
ATTACH;FMTTYPE=image/png:https://prosquared.org/wp-content/uploads/2026/02/2026_CHI_Event.png
ORGANIZER;CN="pro2":MAILTO:admin@prosquared.org
END:VEVENT
END:VCALENDAR