BEGIN:VCALENDAR
VERSION:2.0
PRODID:-//pro² network+ - ECPv6.15.20//NONSGML v1.0//EN
CALSCALE:GREGORIAN
METHOD:PUBLISH
X-WR-CALNAME:pro² network+
X-ORIGINAL-URL:https://prosquared.org
X-WR-CALDESC:Events for pro² network+
REFRESH-INTERVAL;VALUE=DURATION:PT1H
X-Robots-Tag:noindex
X-PUBLISHED-TTL:PT1H
BEGIN:VTIMEZONE
TZID:UTC
BEGIN:STANDARD
TZOFFSETFROM:+0000
TZOFFSETTO:+0000
TZNAME:UTC
DTSTART:20250101T000000
END:STANDARD
END:VTIMEZONE
BEGIN:VEVENT
DTSTART;TZID=UTC:20260327T090000
DTEND;TZID=UTC:20260327T170000
DTSTAMP:20260422T191909
CREATED:20260220T143749Z
LAST-MODIFIED:20260220T143749Z
UID:6145-1774602000-1774630800@prosquared.org
SUMMARY:South West UK Pre-CHI 2026
DESCRIPTION:Calling all those interested in Human-Computer Interaction! \nWe’re proud to once again be sponsors of the South West UK Pre-CHI – a free\, open\, and supportive conference for students\, academics and industry. \nThis conference will be a fantastic opportunity to share research on all things Human-Computer Interaction in a supportive and friendly environment: \n\nPractice your CHI presentations.\nPresent your research or ongoing work.\nReceive constructive feedback.\nFind like-minded collaborators\, connections and friends.\n\nFood and refreshments shall be provided. Free registration for the conference closes on the 1st of March. Sign up to: \n\nSecure your spot\nLet us know if you have a CHI paper\, poster or demonstration to present\nHelp us meet your access needs and dietary restrictions\n\nSubmissions of posters and demos presenting ongoing work are welcome! \nRegister Now
URL:https://prosquared.org/event/south-west-uk-pre-chi-2026/
LOCATION:University of Bristol Bill Brown Suite
ATTACH;FMTTYPE=image/png:https://prosquared.org/wp-content/uploads/2026/02/2026_PRE_CHI_Event.png
END:VEVENT
END:VCALENDAR